BEGIN:VCALENDAR
VERSION:2.0
PRODID:-//Plone.org//NONSGML plone.app.event//EN
X-WR-TIMEZONE:Brazil/East
BEGIN:VEVENT
SUMMARY:Solicitação de agendamento da Câmara de Vereadores
DTSTART;VALUE=DATE:20260507
DTEND;VALUE=DATE:20260508
DTSTAMP;VALUE=DATE-TIME:20260423T150457Z
UID:5e73c2e6b40f4d2882c62d916b51aa6d@www.agudo.rs.leg.br
CONTACT:Secretária da Educação
CREATED;VALUE=DATE-TIME:20260423T113545Z
LAST-MODIFIED;VALUE=DATE-TIME:20260423T113625Z
LOCATION:Plenário
URL:https://www.agudo.rs.leg.br/institucional/eventos2/solicitacao-de-agen
 damento-da-camara-de-vereadores
END:VEVENT
END:VCALENDAR
